BEGIN:VCALENDAR
VERSION:2.0
PRODID:-//eventon.com NONSGML v1.0//EN
CALSCALE:GREGORIAN
METHOD:PUBLISH
BEGIN:VEVENT
UID:69e738553b9b3
DTSTAMP:20260421T084157Z
DTSTART:20260619T171500Z
DTEND:20260619T200000Z
LOCATION:The Space Hendrik Figeeweg
SUMMARY:BREATHWORK & CACAO
DESCRIPTION:Ervaar wat breathwork in combinatie met cacao voor jou kan bete
 kenen! Tijdens deze avond reik ik je de tools voor het creëren van een per
 soonlijke reis naar binnen. Dit moment voor jezelf brengt je altijd wat je 
 nodig hebt: verbinding met jezelf en wat er in je leeft. &nbsp;&nbsp; Ademw
 erk[..]\nhttps://breathinginn.nl/agenda/breathwork-cacao-6/
URL:https://breathinginn.nl/agenda/breathwork-cacao-6/
END:VEVENT
END:VCALENDAR